BEGIN:VCALENDAR
VERSION:2.0
PRODID:-//Mary Margaret Trant Foundation - ECPv6.15.11//NONSGML v1.0//EN
CALSCALE:GREGORIAN
METHOD:PUBLISH
X-ORIGINAL-URL:https://mmtrantfoundation.org
X-WR-CALDESC:Events for Mary Margaret Trant Foundation
REFRESH-INTERVAL;VALUE=DURATION:PT1H
X-Robots-Tag:noindex
X-PUBLISHED-TTL:PT1H
BEGIN:VTIMEZONE
TZID:America/New_York
BEGIN:DAYLIGHT
TZOFFSETFROM:-0500
TZOFFSETTO:-0400
TZNAME:EDT
DTSTART:20200308T070000
END:DAYLIGHT
BEGIN:STANDARD
TZOFFSETFROM:-0400
TZOFFSETTO:-0500
TZNAME:EST
DTSTART:20201101T060000
END:STANDARD
BEGIN:DAYLIGHT
TZOFFSETFROM:-0500
TZOFFSETTO:-0400
TZNAME:EDT
DTSTART:20210314T070000
END:DAYLIGHT
BEGIN:STANDARD
TZOFFSETFROM:-0400
TZOFFSETTO:-0500
TZNAME:EST
DTSTART:20211107T060000
END:STANDARD
BEGIN:DAYLIGHT
TZOFFSETFROM:-0500
TZOFFSETTO:-0400
TZNAME:EDT
DTSTART:20220313T070000
END:DAYLIGHT
BEGIN:STANDARD
TZOFFSETFROM:-0400
TZOFFSETTO:-0500
TZNAME:EST
DTSTART:20221106T060000
END:STANDARD
BEGIN:DAYLIGHT
TZOFFSETFROM:-0500
TZOFFSETTO:-0400
TZNAME:EDT
DTSTART:20230312T070000
END:DAYLIGHT
BEGIN:STANDARD
TZOFFSETFROM:-0400
TZOFFSETTO:-0500
TZNAME:EST
DTSTART:20231105T060000
END:STANDARD
BEGIN:DAYLIGHT
TZOFFSETFROM:-0500
TZOFFSETTO:-0400
TZNAME:EDT
DTSTART:20240310T070000
END:DAYLIGHT
BEGIN:STANDARD
TZOFFSETFROM:-0400
TZOFFSETTO:-0500
TZNAME:EST
DTSTART:20241103T060000
END:STANDARD
BEGIN:DAYLIGHT
TZOFFSETFROM:-0500
TZOFFSETTO:-0400
TZNAME:EDT
DTSTART:20250309T070000
END:DAYLIGHT
BEGIN:STANDARD
TZOFFSETFROM:-0400
TZOFFSETTO:-0500
TZNAME:EST
DTSTART:20251102T060000
END:STANDARD
BEGIN:DAYLIGHT
TZOFFSETFROM:-0500
TZOFFSETTO:-0400
TZNAME:EDT
DTSTART:20260308T070000
END:DAYLIGHT
BEGIN:STANDARD
TZOFFSETFROM:-0400
TZOFFSETTO:-0500
TZNAME:EST
DTSTART:20261101T060000
END:STANDARD
END:VTIMEZONE
BEGIN:VEVENT
DTSTART;TZID=America/New_York:20250805T170000
DTEND;TZID=America/New_York:20250805T210000
DTSTAMP:20260422T085759
CREATED:20250524T005904Z
LAST-MODIFIED:20250524T010655Z
UID:1692-1754413200-1754427600@mmtrantfoundation.org
SUMMARY:5th Annual MMTrant Foundation Corn Hole Tournament
DESCRIPTION:  \nJoin us for a special evening on Tuesday\, August 05\, 2025\, from 5–9 PM at The Greens at MarketStreet Lynnfield! \nThis family-friendly charity event is open to the public and packed with fun — including exciting raffles\, delicious bites from many generous MarketStreet restaurants\, a lively Beer Garden\, and an Amateur Cornhole Tournament by Real Wicked Events (advance team registration required via EventBrite — or see link below). \nMost importantly\, it’s a chance to come together for a great cause and enjoy the company of a supportive community! \nYour interest and support help us continue our mission to uplift and empower 100’s of nursing students and professionals pursue their dreams and provide compassionate patient care to those in our communities. Together\, we’re making a meaningful impact — we’re so grateful to have you on this journey with us!
URL:https://mmtrantfoundation.org/event/5th-annual-mmtrant-foundation-corn-hole-tournament/
LOCATION:The Green at MarketStreet Lynnfield\, 600 Market Street\, Lynnfield\, MA\, 01940\, United States
ORGANIZER;CN="MMTrant Foundation":MAILTO:mmtrantfoundation@gmail.com
END:VEVENT
BEGIN:VEVENT
DTSTART;TZID=America/New_York:20240613T170000
DTEND;TZID=America/New_York:20240613T213000
DTSTAMP:20260422T085759
CREATED:20240212T025849Z
LAST-MODIFIED:20240623T191115Z
UID:1539-1718298000-1718314200@mmtrantfoundation.org
SUMMARY:4th Annual MMTrant Foundation Cornhole Tournament & Social
DESCRIPTION:    \nThe MMTrant Foundation is a registered 501(c)(3) non-profit established in memory of Mary M. Trant who passed away unexpectedly in 2021 at 21 years old. She was an enthusiastically driven nursing student with comforting caring abilities that put many patients at ease while in her care. Mary believed helping others was her life’s purpose; she was excited to share her empathic approach to nursing and gifts of healing with the world. Her remarkable compassion and commitment during the challenging times of the 2020 pandemic left an indelible mark on all who knew her. Through our foundation\, we aim to perpetuate Mary’s dream of healing and helping by empowering the next generation of nurses..   \nSince our inception in 2021\, the MMTrant Foundation has proudly allocated over $18\,000 in scholarships to high school seniors and contributed a $50\,000 endowment to a local nursing university. Additionally\, we’ve supported our frontline heroes with numerous care packages\, thanks to the generous contributions from our supporters. \nPlease join us Thursday June 13\, 2024* from 5-10pm on ‘The Greens’ of Lynnfield-Marketstreet. Our family-friendly public charity event will feature MANY generous raffles\, delicious food from numerous supportive MarketStreet restaurants\, a Beer Garden\, Amateur’s Cornhole Tournament (advance sign-up required via EventBrite) ..and of course\, great company! \nThank you for your interest and support in helping us increase our contributions to both the nursing and broader medical communities. Your involvement helps us sustain and expand our efforts to nurture and empower healthcare professionals. Thank you for being part of this vital mission! \n  \n*Rain date is scheduled for Friday\, June 14\, 2024 – 5-9:30pm. Follow our Facebook/Instagram pages for more announcements. \n 
URL:https://mmtrantfoundation.org/event/4th-annual-mmtrant-foundation-cornhole-tournament-social/
LOCATION:Lynnfield Market Street\, 600 Market St\, Lynnfield\, MA\, 01940\, United States
ORGANIZER;CN="MMTrant Foundation":MAILTO:mmtrantfoundation@gmail.com
END:VEVENT
BEGIN:VEVENT
DTSTART;TZID=America/New_York:20230803T180000
DTEND;TZID=America/New_York:20230803T200000
DTSTAMP:20260422T085759
CREATED:20230722T214447Z
LAST-MODIFIED:20230722T214447Z
UID:1502-1691085600-1691092800@mmtrantfoundation.org
SUMMARY:MMTrant Foundation 2023 Scholarship Awards Dinner
DESCRIPTION:
URL:https://mmtrantfoundation.org/event/mmtrant-foundation-2023-scholarship-awards-dinner/
LOCATION:Angelo’s Ristorante\, 239 Main Street\, Stoneham\, MA\, 02180\, United States
ORGANIZER;CN="MMTrant Foundation":MAILTO:mmtrantfoundation@gmail.com
END:VEVENT
BEGIN:VEVENT
DTSTART;TZID=America/New_York:20230622T170000
DTEND;TZID=America/New_York:20230622T210000
DTSTAMP:20260422T085759
CREATED:20230323T121336Z
LAST-MODIFIED:20230323T121417Z
UID:1400-1687453200-1687467600@mmtrantfoundation.org
SUMMARY:3rd Annual MMTrant Foundation Cornhole Tournament
DESCRIPTION:
URL:https://mmtrantfoundation.org/event/3rd-annual-mmtrant-foundation/
LOCATION:Lynnfield Market Street\, 600 Market St\, Lynnfield\, MA\, 01940\, United States
ORGANIZER;CN="MMTrant Foundation":MAILTO:mmtrantfoundation@gmail.com
END:VEVENT
BEGIN:VEVENT
DTSTART;VALUE=DATE:20230107
DTEND;VALUE=DATE:20230109
DTSTAMP:20260422T085759
CREATED:20221031T161026Z
LAST-MODIFIED:20221031T161026Z
UID:1328-1673049600-1673222399@mmtrantfoundation.org
SUMMARY:MMTrant partners with Kendra Scott Give Back Event
DESCRIPTION:The MMTrant Foundation will be working with Kendra Scott to host a give back event at their location at Lynnfield MarketStreet on 1/7/23 through 1/8/23.
URL:https://mmtrantfoundation.org/event/mmtrant-partners-with-kendra-scott-give-back-event/
LOCATION:Kendra Scott\, 1242 Market Street\, Lynnfield\, MA\, 01940\, United States
ORGANIZER;CN="MMTrant Foundation":MAILTO:mmtrantfoundation@gmail.com
END:VEVENT
BEGIN:VEVENT
DTSTART;TZID=America/New_York:20220809T170000
DTEND;TZID=America/New_York:20220809T213000
DTSTAMP:20260422T085759
CREATED:20220608T125517Z
LAST-MODIFIED:20220714T180546Z
UID:1292-1660064400-1660080600@mmtrantfoundation.org
SUMMARY:2nd Annual Cornhole Tournament
DESCRIPTION:Corn Hole Tournament Sign Up Link
URL:https://mmtrantfoundation.org/event/2nd-annual-cornhole-tournament/
LOCATION:Lynnfield Market Street\, 600 Market St\, Lynnfield\, MA\, 01940\, United States
ORGANIZER;CN="MMTrant Foundation":MAILTO:mmtrantfoundation@gmail.com
END:VEVENT
BEGIN:VEVENT
DTSTART;TZID=America/New_York:20220801T180000
DTEND;TZID=America/New_York:20220801T210000
DTSTAMP:20260422T085759
CREATED:20220714T184937Z
LAST-MODIFIED:20220801T024747Z
UID:1305-1659376800-1659387600@mmtrantfoundation.org
SUMMARY:MMTrant Scholarship Dinner
DESCRIPTION:
URL:https://mmtrantfoundation.org/event/mmtrant-scholarship-dinner/
LOCATION:Cafe Escadrille\, Burlington\, MA\, United States
ORGANIZER;CN="MMTrant Foundation":MAILTO:mmtrantfoundation@gmail.com
END:VEVENT
BEGIN:VEVENT
DTSTART;TZID=America/New_York:20210804T170000
DTEND;TZID=America/New_York:20210804T200000
DTSTAMP:20260422T085759
CREATED:20210726T223029Z
LAST-MODIFIED:20210726T223502Z
UID:1181-1628096400-1628107200@mmtrantfoundation.org
SUMMARY:MMTrant Cornhole Tournament
DESCRIPTION:To enter please email mmtrantfoundation@gmail.com. The general public is welcome to attend for free to watch the cornhole tournament or participate in the other fun activities we will having going on.
URL:https://mmtrantfoundation.org/event/mmtrant-cornhole-tournament/
LOCATION:Stoneham High School\, 149 Franklin Street\, Stoneham\, MA\, 02180\, United States
ORGANIZER;CN="MMTrant Foundation":MAILTO:mmtrantfoundation@gmail.com
END:VEVENT
BEGIN:VEVENT
DTSTART;TZID=America/New_York:20210802T173000
DTEND;TZID=America/New_York:20210802T203000
DTSTAMP:20260422T085759
CREATED:20210727T215914Z
LAST-MODIFIED:20210727T215914Z
UID:1190-1627925400-1627936200@mmtrantfoundation.org
SUMMARY:MMTrant Scholarship Award Ceremony
DESCRIPTION:The MMTrant Foundation will be hosting our annual award dinner for our scholarship recipients. The dinner will take place at Cafe Escadrille in Burlington Ma at 5:30pm.
URL:https://mmtrantfoundation.org/event/mmtrant-scholarship-award-ceremony/
LOCATION:Cafe Escadrille\, Burlington\, MA\, United States
END:VEVENT
BEGIN:VEVENT
DTSTART;TZID=America/New_York:20210724T130000
DTEND;TZID=America/New_York:20210724T180000
DTSTAMP:20260422T085759
CREATED:20210628T224531Z
LAST-MODIFIED:20210701T234640Z
UID:1163-1627131600-1627149600@mmtrantfoundation.org
SUMMARY:Mary's Celebration of Life
DESCRIPTION:Please join us at Mary’s Celebration of Life. We will be sharing stories and memories to remember such a wonderful person who is deeply missed. The family wishes to thank all those who have offered prayers & support. We encourage attendees to bring photos and memories to share. Light food & refreshments featuring Mary’s favorites will be served. Please let us know by JULY 17th if you and guests are able to attend by responding directly to this E-vite OR by contacting Emily at 781-475-7468.
URL:https://mmtrantfoundation.org/event/marys-celebration-of-life/
LOCATION:Trant Residence\, 19 Arnold Road\, Stoneham\, MA\, 02180\, United States
END:VEVENT
END:VCALENDAR